Package: sSeq Version: 1.44.0 Command: /home/biocbuild/bbs-3.20-bioc/R/bin/R CMD INSTALL sSeq StartedAt: 2025-01-30 15:06:23 -0500 (Thu, 30 Jan 2025) EndedAt: 2025-01-30 15:06:36 -0500 (Thu, 30 Jan 2025) EllapsedTime: 13.3 seconds RetCode: 0 Status: OK