Package: sSeq Version: 1.44.0 Command: rm -rf sSeq.buildbin-libdir && mkdir sSeq.buildbin-libdir && F:\biocbuild\bbs-3.20-bioc\R\bin\R.exe CMD INSTALL --build --library=sSeq.buildbin-libdir sSeq_1.44.0.tar.gz StartedAt: 2025-01-31 09:43:36 -0500 (Fri, 31 Jan 2025) EndedAt: 2025-01-31 09:43:50 -0500 (Fri, 31 Jan 2025) EllapsedTime: 14.5 seconds RetCode: 0 Status: OK PackageFile: sSeq_1.44.0.zip PackageFileSize: 4.3 MiB