Package: sSeq Version: 1.44.0 Command: /home/biocbuild/R/R/bin/R CMD build --keep-empty-dirs --no-resave-data sSeq StartedAt: 2025-02-04 03:18:56 -0000 (Tue, 04 Feb 2025) EndedAt: 2025-02-04 03:21:01 -0000 (Tue, 04 Feb 2025) EllapsedTime: 125.2 seconds RetCode: 0 Status: OK PackageFile: sSeq_1.44.0.tar.gz PackageFileSize: 4.194 MiB