Package: sSeq Version: 1.44.0 Command: /home/biocbuild/R/R/bin/R CMD INSTALL sSeq StartedAt: 2025-02-10 20:11:10 -0000 (Mon, 10 Feb 2025) EndedAt: 2025-02-10 20:11:40 -0000 (Mon, 10 Feb 2025) EllapsedTime: 30.7 seconds RetCode: 0 Status: OK