Package: safe
Version: 3.46.0
Command: /Library/Frameworks/R.framework/Resources/bin/R CMD check --install=check:safe.install-out.txt --library=/Library/Frameworks/R.framework/Resources/library --no-vignettes --timings safe_3.46.0.tar.gz
StartedAt: 2024-11-20 02:11:27 -0500 (Wed, 20 Nov 2024)
EndedAt: 2024-11-20 02:16:36 -0500 (Wed, 20 Nov 2024)
EllapsedTime: 308.8 seconds
RetCode: 0
Status: OK
CheckDir: safe.Rcheck
Warnings: 0