Package: safe Version: 3.46.0 Command: /home/biocbuild/bbs-3.20-bioc/R/bin/R CMD check --install=check:safe.install-out.txt --library=/home/biocbuild/bbs-3.20-bioc/R/site-library --timings safe_3.46.0.tar.gz StartedAt: 2025-02-04 02:03:11 -0500 (Tue, 04 Feb 2025) EndedAt: 2025-02-04 02:08:02 -0500 (Tue, 04 Feb 2025) EllapsedTime: 290.4 seconds RetCode: 0 Status: OK CheckDir: safe.Rcheck Warnings: 0