Package: safe Version: 3.46.0 Command: F:\biocbuild\bbs-3.20-bioc\R\bin\R.exe CMD INSTALL safe StartedAt: 2025-02-03 15:59:02 -0500 (Mon, 03 Feb 2025) EndedAt: 2025-02-03 15:59:28 -0500 (Mon, 03 Feb 2025) EllapsedTime: 26.2 seconds RetCode: 0 Status: OK