Package: safe Version: 3.46.0 Command: /home/biocbuild/R/R/bin/R CMD INSTALL safe StartedAt: 2025-02-03 20:37:48 -0000 (Mon, 03 Feb 2025) EndedAt: 2025-02-03 20:38:07 -0000 (Mon, 03 Feb 2025) EllapsedTime: 19.0 seconds RetCode: 0 Status: OK