Package: sampleClassifier Version: 1.30.0 Command: rm -rf sampleClassifier.buildbin-libdir && mkdir sampleClassifier.buildbin-libdir && /Users/biocbuild/BBS/utils/build-universal.sh sampleClassifier_1.30.0.tar.gz /Library/Frameworks/R.framework/Resources/bin/R sampleClassifier.buildbin-libdir StartedAt: 2025-01-31 13:36:24 -0500 (Fri, 31 Jan 2025) EndedAt: 2025-01-31 13:37:01 -0500 (Fri, 31 Jan 2025) EllapsedTime: 36.8 seconds RetCode: 0 Status: OK PackageFile: sampleClassifier_1.30.0.tgz PackageFileSize: 269.8 KiB