Package: sampleClassifier Version: 1.30.0 Command: /Library/Frameworks/R.framework/Resources/bin/R CMD check --install=check:sampleClassifier.install-out.txt --library=/Library/Frameworks/R.framework/Resources/library --no-vignettes --timings sampleClassifier_1.30.0.tar.gz StartedAt: 2025-02-04 09:25:19 -0500 (Tue, 04 Feb 2025) EndedAt: 2025-02-04 09:34:15 -0500 (Tue, 04 Feb 2025) EllapsedTime: 536.7 seconds RetCode: 0 Status: OK CheckDir: sampleClassifier.Rcheck Warnings: 0