Package: sampleClassifier Version: 1.30.0 Command: /Library/Frameworks/R.framework/Resources/bin/R CMD INSTALL sampleClassifier StartedAt: 2025-02-03 15:55:11 -0500 (Mon, 03 Feb 2025) EndedAt: 2025-02-03 15:55:45 -0500 (Mon, 03 Feb 2025) EllapsedTime: 34.1 seconds RetCode: 0 Status: OK