Package: sampleClassifier Version: 1.30.0 Command: /home/biocbuild/R/R/bin/R CMD check --install=check:sampleClassifier.install-out.txt --library=/home/biocbuild/R/R/site-library --no-vignettes --timings sampleClassifier_1.30.0.tar.gz StartedAt: 2025-02-04 10:42:12 -0000 (Tue, 04 Feb 2025) EndedAt: 2025-02-04 10:46:52 -0000 (Tue, 04 Feb 2025) EllapsedTime: 280.4 seconds RetCode: 0 Status: OK CheckDir: sampleClassifier.Rcheck Warnings: 0