Package: sampleClassifier Version: 1.30.0 Command: /home/biocbuild/R/R/bin/R CMD INSTALL sampleClassifier StartedAt: 2025-02-03 20:50:13 -0000 (Mon, 03 Feb 2025) EndedAt: 2025-02-03 20:50:33 -0000 (Mon, 03 Feb 2025) EllapsedTime: 19.2 seconds RetCode: 0 Status: OK