Package: sangeranalyseR
Version: 1.16.0
Command: /Library/Frameworks/R.framework/Resources/bin/R CMD build --keep-empty-dirs --no-resave-data sangeranalyseR
StartedAt: 2024-11-08 18:55:26 -0500 (Fri, 08 Nov 2024)
EndedAt: 2024-11-08 18:55:41 -0500 (Fri, 08 Nov 2024)
EllapsedTime: 15.2 seconds
RetCode: 0
Status: OK
PackageFile: sangeranalyseR_1.16.0.tar.gz
PackageFileSize: 38.16 <A href="http://en.wikipedia.org/wiki/MiB" target="_blank">MiB</A>