Package: sangeranalyseR
Version: 1.16.0
Command: /Library/Frameworks/R.framework/Resources/bin/R CMD INSTALL sangeranalyseR
StartedAt: 2024-11-19 15:43:59 -0500 (Tue, 19 Nov 2024)
EndedAt: 2024-11-19 15:44:35 -0500 (Tue, 19 Nov 2024)
EllapsedTime: 35.9 seconds
RetCode: 0
Status: OK