Package: sangeranalyseR
Version: 1.16.0
Command: /home/biocbuild/bbs-3.20-bioc/R/bin/R CMD build --keep-empty-dirs --no-resave-data --md5 sangeranalyseR
StartedAt: 2025-02-17 18:52:59 -0500 (Mon, 17 Feb 2025)
EndedAt: 2025-02-17 18:53:35 -0500 (Mon, 17 Feb 2025)
EllapsedTime: 35.0 seconds
RetCode: 0
Status: OK
PackageFile: sangeranalyseR_1.16.0.tar.gz
PackageFileSize: 38.17 <A href="http://en.wikipedia.org/wiki/MiB" target="_blank">MiB</A>