Package: sangeranalyseR Version: 1.16.0 Command: chmod a+r sangeranalyseR -R && F:\biocbuild\bbs-3.20-bioc\R\bin\R.exe CMD build --keep-empty-dirs --no-resave-data sangeranalyseR StartedAt: 2025-02-03 21:51:15 -0500 (Mon, 03 Feb 2025) EndedAt: 2025-02-03 21:54:18 -0500 (Mon, 03 Feb 2025) EllapsedTime: 183.1 seconds RetCode: 0 Status: OK PackageFile: sangeranalyseR_1.16.0.tar.gz PackageFileSize: 38.15 MiB