Package: sangeranalyseR Version: 1.16.0 Command: /home/biocbuild/R/R/bin/R CMD INSTALL sangeranalyseR StartedAt: 2025-02-03 21:20:21 -0000 (Mon, 03 Feb 2025) EndedAt: 2025-02-03 21:20:51 -0000 (Mon, 03 Feb 2025) EllapsedTime: 30.5 seconds RetCode: 0 Status: OK