Package: sangerseqR Version: 1.42.0 Command: /Library/Frameworks/R.framework/Resources/bin/R CMD build --keep-empty-dirs --no-resave-data sangerseqR StartedAt: 2025-02-03 21:55:51 -0500 (Mon, 03 Feb 2025) EndedAt: 2025-02-03 21:57:11 -0500 (Mon, 03 Feb 2025) EllapsedTime: 81.0 seconds RetCode: 0 Status: OK PackageFile: sangerseqR_1.42.0.tar.gz PackageFileSize: 2.934 MiB