Package: sangerseqR Version: 1.42.0 Command: F:\biocbuild\bbs-3.20-bioc\R\bin\R.exe CMD check --no-multiarch --install=check:sangerseqR.install-out.txt --library=F:\biocbuild\bbs-3.20-bioc\R\library --no-vignettes --timings sangerseqR_1.42.0.tar.gz StartedAt: 2025-02-04 05:51:09 -0500 (Tue, 04 Feb 2025) EndedAt: 2025-02-04 05:53:42 -0500 (Tue, 04 Feb 2025) EllapsedTime: 153.1 seconds RetCode: 0 Status: OK CheckDir: sangerseqR.Rcheck Warnings: 0