Package: sangerseqR Version: 1.42.0 Command: /home/biocbuild/R/R/bin/R CMD build --keep-empty-dirs --no-resave-data sangerseqR StartedAt: 2025-02-04 02:33:02 -0000 (Tue, 04 Feb 2025) EndedAt: 2025-02-04 02:33:56 -0000 (Tue, 04 Feb 2025) EllapsedTime: 53.0 seconds RetCode: 0 Status: OK PackageFile: sangerseqR_1.42.0.tar.gz PackageFileSize: 2.125 MiB