Package: sarks Version: 1.18.0 Command: /Library/Frameworks/R.framework/Resources/bin/R CMD check --install=check:sarks.install-out.txt --library=/Library/Frameworks/R.framework/Resources/library --no-vignettes --timings sarks_1.18.0.tar.gz StartedAt: 2025-02-01 07:50:38 -0500 (Sat, 01 Feb 2025) EndedAt: 2025-02-01 07:52:14 -0500 (Sat, 01 Feb 2025) EllapsedTime: 95.6 seconds RetCode: 0 Status: OK CheckDir: sarks.Rcheck Warnings: 0