Package: sarks Version: 1.18.0 Command: /Library/Frameworks/R.framework/Resources/bin/R CMD INSTALL sarks StartedAt: 2025-01-30 15:17:08 -0500 (Thu, 30 Jan 2025) EndedAt: 2025-01-30 15:17:33 -0500 (Thu, 30 Jan 2025) EllapsedTime: 25.2 seconds RetCode: 0 Status: OK