Package: saseR
Version: 1.2.0
Command: /Library/Frameworks/R.framework/Resources/bin/R CMD INSTALL saseR
StartedAt: 2024-11-08 15:42:58 -0500 (Fri, 08 Nov 2024)
EndedAt: 2024-11-08 15:43:19 -0500 (Fri, 08 Nov 2024)
EllapsedTime: 20.7 seconds
RetCode: 0
Status: OK