Package: saseR Version: 1.2.0 Command: /Library/Frameworks/R.framework/Resources/bin/R CMD build --keep-empty-dirs --no-resave-data saseR StartedAt: 2025-02-03 21:56:29 -0500 (Mon, 03 Feb 2025) EndedAt: 2025-02-03 22:03:07 -0500 (Mon, 03 Feb 2025) EllapsedTime: 398.2 seconds RetCode: 0 Status: OK PackageFile: saseR_1.2.0.tar.gz PackageFileSize: 1.207 MiB