Package: saseR Version: 1.2.0 Command: /Library/Frameworks/R.framework/Resources/bin/R CMD check --install=check:saseR.install-out.txt --library=/Library/Frameworks/R.framework/Resources/library --no-vignettes --timings saseR_1.2.0.tar.gz StartedAt: 2025-02-04 09:27:29 -0500 (Tue, 04 Feb 2025) EndedAt: 2025-02-04 09:42:17 -0500 (Tue, 04 Feb 2025) EllapsedTime: 887.7 seconds RetCode: 0 Status: WARNINGS CheckDir: saseR.Rcheck Warnings: 1