Package: saseR Version: 1.2.0 Command: /Library/Frameworks/R.framework/Resources/bin/R CMD INSTALL saseR StartedAt: 2025-02-03 16:30:47 -0500 (Mon, 03 Feb 2025) EndedAt: 2025-02-03 16:32:47 -0500 (Mon, 03 Feb 2025) EllapsedTime: 119.8 seconds RetCode: 0 Status: OK