Package: saseR Version: 1.2.0 Command: rm -rf saseR.buildbin-libdir && mkdir saseR.buildbin-libdir && F:\biocbuild\bbs-3.20-bioc\R\bin\R.exe CMD INSTALL --build --library=saseR.buildbin-libdir saseR_1.2.0.tar.gz StartedAt: 2025-02-04 09:25:44 -0500 (Tue, 04 Feb 2025) EndedAt: 2025-02-04 09:27:08 -0500 (Tue, 04 Feb 2025) EllapsedTime: 83.9 seconds RetCode: 0 Status: OK PackageFile: saseR_1.2.0.zip PackageFileSize: 1.366 MiB