Package: saseR Version: 1.2.0 Command: /home/biocbuild/R/R/bin/R CMD build --keep-empty-dirs --no-resave-data saseR StartedAt: 2025-02-04 02:33:44 -0000 (Tue, 04 Feb 2025) EndedAt: 2025-02-04 02:38:07 -0000 (Tue, 04 Feb 2025) EllapsedTime: 263.4 seconds RetCode: 0 Status: OK PackageFile: saseR_1.2.0.tar.gz PackageFileSize: 1.231 MiB