Package: saseR Version: 1.2.0 Command: /home/biocbuild/R/R/bin/R CMD check --install=check:saseR.install-out.txt --library=/home/biocbuild/R/R/site-library --no-vignettes --timings saseR_1.2.0.tar.gz StartedAt: 2025-02-04 10:43:14 -0000 (Tue, 04 Feb 2025) EndedAt: 2025-02-04 10:51:45 -0000 (Tue, 04 Feb 2025) EllapsedTime: 510.6 seconds RetCode: 0 Status: WARNINGS CheckDir: saseR.Rcheck Warnings: 1