Package: saseR Version: 1.2.0 Command: /home/biocbuild/R/R/bin/R CMD INSTALL saseR StartedAt: 2025-02-03 21:12:00 -0000 (Mon, 03 Feb 2025) EndedAt: 2025-02-03 21:13:12 -0000 (Mon, 03 Feb 2025) EllapsedTime: 72.0 seconds RetCode: 0 Status: OK