Package: satuRn Version: 1.14.0 Command: /Library/Frameworks/R.framework/Resources/bin/R CMD INSTALL satuRn StartedAt: 2025-02-03 16:07:09 -0500 (Mon, 03 Feb 2025) EndedAt: 2025-02-03 16:07:37 -0500 (Mon, 03 Feb 2025) EllapsedTime: 27.7 seconds RetCode: 0 Status: OK