Package: satuRn Version: 1.14.0 Command: rm -rf satuRn.buildbin-libdir && mkdir satuRn.buildbin-libdir && F:\biocbuild\bbs-3.20-bioc\R\bin\R.exe CMD INSTALL --build --library=satuRn.buildbin-libdir satuRn_1.14.0.tar.gz StartedAt: 2025-02-04 09:25:46 -0500 (Tue, 04 Feb 2025) EndedAt: 2025-02-04 09:26:26 -0500 (Tue, 04 Feb 2025) EllapsedTime: 39.5 seconds RetCode: 0 Status: OK PackageFile: satuRn_1.14.0.zip PackageFileSize: 3.226 MiB