Package: scAnnotatR Version: 1.12.0 Command: /Library/Frameworks/R.framework/Resources/bin/R CMD INSTALL scAnnotatR StartedAt: 2025-02-03 16:31:46 -0500 (Mon, 03 Feb 2025) EndedAt: 2025-02-03 16:33:29 -0500 (Mon, 03 Feb 2025) EllapsedTime: 103.5 seconds RetCode: 0 Status: OK