Package: scCB2 Version: 1.16.0 Command: rm -rf scCB2.buildbin-libdir && mkdir scCB2.buildbin-libdir && /Users/biocbuild/BBS/utils/build-universal.sh scCB2_1.16.0.tar.gz /Library/Frameworks/R.framework/Resources/bin/R scCB2.buildbin-libdir StartedAt: 2025-02-05 17:39:23 -0500 (Wed, 05 Feb 2025) EndedAt: 2025-02-05 17:40:12 -0500 (Wed, 05 Feb 2025) EllapsedTime: 48.8 seconds RetCode: 0 Status: OK PackageFile: scCB2_1.16.0.tgz PackageFileSize: 888 KiB