Package: scCB2 Version: 1.16.0 Command: /Library/Frameworks/R.framework/Resources/bin/R CMD build --keep-empty-dirs --no-resave-data scCB2 StartedAt: 2025-02-03 22:00:13 -0500 (Mon, 03 Feb 2025) EndedAt: 2025-02-03 22:08:59 -0500 (Mon, 03 Feb 2025) EllapsedTime: 525.6 seconds RetCode: 0 Status: OK PackageFile: scCB2_1.16.0.tar.gz PackageFileSize: 847.1 KiB