Package: scCB2 Version: 1.16.0 Command: /home/biocbuild/bbs-3.20-bioc/R/bin/R CMD INSTALL scCB2 StartedAt: 2025-02-10 15:47:54 -0500 (Mon, 10 Feb 2025) EndedAt: 2025-02-10 15:48:30 -0500 (Mon, 10 Feb 2025) EllapsedTime: 36.5 seconds RetCode: 0 Status: OK