Package: scCB2 Version: 1.16.0 Command: chmod a+r scCB2 -R && F:\biocbuild\bbs-3.20-bioc\R\bin\R.exe CMD build --keep-empty-dirs --no-resave-data scCB2 StartedAt: 2025-02-03 21:54:18 -0500 (Mon, 03 Feb 2025) EndedAt: 2025-02-03 22:00:06 -0500 (Mon, 03 Feb 2025) EllapsedTime: 347.9 seconds RetCode: 0 Status: OK PackageFile: scCB2_1.16.0.tar.gz PackageFileSize: 847.2 KiB