Package: scCB2 Version: 1.16.0 Command: /home/biocbuild/R/R/bin/R CMD INSTALL scCB2 StartedAt: 2025-02-03 21:05:54 -0000 (Mon, 03 Feb 2025) EndedAt: 2025-02-03 21:06:43 -0000 (Mon, 03 Feb 2025) EllapsedTime: 49.5 seconds RetCode: 0 Status: OK