Package: scDD Version: 1.30.0 Command: rm -rf scDD.buildbin-libdir && mkdir scDD.buildbin-libdir && /Users/biocbuild/BBS/utils/build-universal.sh scDD_1.30.0.tar.gz /Library/Frameworks/R.framework/Resources/bin/R scDD.buildbin-libdir StartedAt: 2025-01-31 13:38:02 -0500 (Fri, 31 Jan 2025) EndedAt: 2025-01-31 13:39:19 -0500 (Fri, 31 Jan 2025) EllapsedTime: 77.0 seconds RetCode: 0 Status: OK PackageFile: scDD_1.30.0.tgz PackageFileSize: 1020 KiB