Package: scDDboost Version: 1.8.0 Maintainer: Xiuyu Ma MaintainerEmail: watsonforfun at gmail.com git_url: https://git.bioconductor.org/packages/scDDboost git_branch: RELEASE_3_20 git_last_commit: 042b4c2 git_last_commit_date: 2024-10-29 11:12:07 -0500 (Tue, 29 Oct 2024)