Package: scDDboost Version: 1.8.0 Command: /home/biocbuild/bbs-3.20-bioc/R/bin/R CMD INSTALL scDDboost StartedAt: 2025-01-30 15:40:04 -0500 (Thu, 30 Jan 2025) EndedAt: 2025-01-30 15:40:23 -0500 (Thu, 30 Jan 2025) EllapsedTime: 18.9 seconds RetCode: 1 Status: ERROR