Package: scDataviz Version: 1.16.0 Command: rm -rf scDataviz.buildbin-libdir && mkdir scDataviz.buildbin-libdir && /Users/biocbuild/BBS/utils/build-universal.sh scDataviz_1.16.0.tar.gz /Library/Frameworks/R.framework/Resources/bin/R scDataviz.buildbin-libdir StartedAt: 2025-02-01 16:44:05 -0500 (Sat, 01 Feb 2025) EndedAt: 2025-02-01 16:44:55 -0500 (Sat, 01 Feb 2025) EllapsedTime: 49.7 seconds RetCode: 0 Status: OK PackageFile: scDataviz_1.16.0.tgz PackageFileSize: 5.978 MiB