Package: scDataviz Version: 1.16.0 Command: /Library/Frameworks/R.framework/Resources/bin/R CMD build --keep-empty-dirs --no-resave-data scDataviz StartedAt: 2025-01-31 07:14:27 -0500 (Fri, 31 Jan 2025) EndedAt: 2025-01-31 07:18:41 -0500 (Fri, 31 Jan 2025) EllapsedTime: 253.7 seconds RetCode: 0 Status: OK PackageFile: scDataviz_1.16.0.tar.gz PackageFileSize: 8.893 MiB