Package: scDataviz Version: 1.16.0 Command: /Library/Frameworks/R.framework/Resources/bin/R CMD check --install=check:scDataviz.install-out.txt --library=/Library/Frameworks/R.framework/Resources/library --no-vignettes --timings scDataviz_1.16.0.tar.gz StartedAt: 2024-11-09 12:31:00 -0500 (Sat, 09 Nov 2024) EndedAt: 2024-11-09 12:36:14 -0500 (Sat, 09 Nov 2024) EllapsedTime: 314.1 seconds RetCode: 0 Status: OK CheckDir: scDataviz.Rcheck Warnings: 0