Package: scDataviz Version: 1.16.0 Command: /Library/Frameworks/R.framework/Resources/bin/R CMD check --install=check:scDataviz.install-out.txt --library=/Library/Frameworks/R.framework/Resources/library --no-vignettes --timings scDataviz_1.16.0.tar.gz StartedAt: 2025-01-31 09:33:58 -0500 (Fri, 31 Jan 2025) EndedAt: 2025-01-31 09:43:08 -0500 (Fri, 31 Jan 2025) EllapsedTime: 550.0 seconds RetCode: 0 Status: OK CheckDir: scDataviz.Rcheck Warnings: 0