Package: scDataviz Version: 1.16.0 Command: /Library/Frameworks/R.framework/Resources/bin/R CMD INSTALL scDataviz StartedAt: 2025-01-30 16:23:46 -0500 (Thu, 30 Jan 2025) EndedAt: 2025-01-30 16:25:08 -0500 (Thu, 30 Jan 2025) EllapsedTime: 82.3 seconds RetCode: 0 Status: OK