Package: scDataviz Version: 1.16.0 Command: /home/biocbuild/R/R/bin/R CMD build --keep-empty-dirs --no-resave-data scDataviz StartedAt: 2025-01-31 02:26:33 -0000 (Fri, 31 Jan 2025) EndedAt: 2025-01-31 02:31:40 -0000 (Fri, 31 Jan 2025) EllapsedTime: 307.4 seconds RetCode: 0 Status: OK PackageFile: scDataviz_1.16.0.tar.gz PackageFileSize: 5.408 MiB