Package: scDataviz Version: 1.16.0 Command: /home/biocbuild/R/R/bin/R CMD INSTALL scDataviz StartedAt: 2025-01-30 20:55:35 -0000 (Thu, 30 Jan 2025) EndedAt: 2025-01-30 20:56:22 -0000 (Thu, 30 Jan 2025) EllapsedTime: 47.1 seconds RetCode: 0 Status: OK