Package: scDblFinder Version: 1.20.0 Command: /Library/Frameworks/R.framework/Resources/bin/R CMD build --keep-empty-dirs --no-resave-data scDblFinder StartedAt: 2025-02-04 07:25:34 -0500 (Tue, 04 Feb 2025) EndedAt: 2025-02-04 07:28:19 -0500 (Tue, 04 Feb 2025) EllapsedTime: 164.7 seconds RetCode: 0 Status: OK PackageFile: scDblFinder_1.20.0.tar.gz PackageFileSize: 2.249 MiB